Package: PREDA Version: 1.38.0 Command: rm -rf PREDA.buildbin-libdir && mkdir PREDA.buildbin-libdir && /Users/biocbuild/BBS/utils/build-universal.sh PREDA_1.38.0.tar.gz /Library/Frameworks/R.framework/Versions/Current/Resources/bin/R PREDA.buildbin-libdir StartedAt: 2021-10-15 03:31:35 -0400 (Fri, 15 Oct 2021) EndedAt: 2021-10-15 03:32:34 -0400 (Fri, 15 Oct 2021) EllapsedTime: 58.7 seconds RetCode: 0 Status: OK PackageFile: PREDA_1.38.0.tgz PackageFileSize: 1.823 MiB