Package: PPInfer Version: 1.18.0 Command: chmod a+r PPInfer -R && C:\Users\biocbuild\bbs-3.13-bioc\R\bin\R.exe CMD build --keep-empty-dirs --no-resave-data PPInfer StartedAt: 2021-10-14 17:07:27 -0400 (Thu, 14 Oct 2021) EndedAt: 2021-10-14 17:09:57 -0400 (Thu, 14 Oct 2021) EllapsedTime: 150.4 seconds RetCode: 0 Status: OK PackageFile: PPInfer_1.18.0.tar.gz PackageFileSize: 246.3 KiB