Package: PPInfer Version: 1.18.0 Command: rm -rf PPInfer.buildbin-libdir && mkdir PPInfer.buildbin-libdir && C:\Users\biocbuild\bbs-3.13-bioc\R\bin\R.exe CMD INSTALL --merge-multiarch --build --library=PPInfer.buildbin-libdir PPInfer_1.18.0.tar.gz StartedAt: 2021-10-15 11:02:19 -0400 (Fri, 15 Oct 2021) EndedAt: 2021-10-15 11:03:34 -0400 (Fri, 15 Oct 2021) EllapsedTime: 74.4 seconds RetCode: 0 Status: OK PackageFile: PPInfer_1.18.0.zip PackageFileSize: 327 KiB