Package: PING Version: 2.36.0 Command: /Library/Frameworks/R.framework/Versions/Current/Resources/bin/R CMD build --keep-empty-dirs --no-resave-data PING StartedAt: 2021-10-14 13:56:21 -0400 (Thu, 14 Oct 2021) EndedAt: 2021-10-14 13:56:23 -0400 (Thu, 14 Oct 2021) EllapsedTime: 1.9 seconds RetCode: 0 Status: OK PackageFile: PING_2.36.0.tar.gz PackageFileSize: 4.51 MiB