git_url: https://git.bioconductor.org/packages/PING git_branch: RELEASE_3_13 git_last_commit: 02aecc8 git_last_commit_date: 2021-05-19 11:51:34 -0400 (Wed, 19 May 2021) Package: PING Version: 2.36.0 Maintainer: Renan Sauteraud MaintainerEmail: renan.sauteraud at gmail.com