Package: PFP Version: 1.0.0 Command: chmod a+r PFP -R && C:\Users\biocbuild\bbs-3.13-bioc\R\bin\R.exe CMD build --keep-empty-dirs --no-resave-data PFP StartedAt: 2021-10-14 16:51:04 -0400 (Thu, 14 Oct 2021) EndedAt: 2021-10-14 16:52:51 -0400 (Thu, 14 Oct 2021) EllapsedTime: 107.6 seconds RetCode: 0 Status: OK PackageFile: PFP_1.0.0.tar.gz PackageFileSize: 1.189 MiB