Package: PCAtools Version: 2.4.0 Command: C:\cygwin\bin\curl.exe -O http://155.52.207.165/BBS/3.13/bioc/src/contrib/PCAtools_2.4.0.tar.gz && rm -rf PCAtools.buildbin-libdir && mkdir PCAtools.buildbin-libdir && C:\Users\biocbuild\bbs-3.13-bioc\R\bin\R.exe CMD INSTALL --merge-multiarch --build --library=PCAtools.buildbin-libdir PCAtools_2.4.0.tar.gz && C:\Users\biocbuild\bbs-3.13-bioc\R\bin\R.exe CMD INSTALL PCAtools_2.4.0.zip && rm PCAtools_2.4.0.tar.gz PCAtools_2.4.0.zip StartedAt: 2021-10-14 08:54:34 -0400 (Thu, 14 Oct 2021) EndedAt: 2021-10-14 08:55:49 -0400 (Thu, 14 Oct 2021) EllapsedTime: 75.1 seconds RetCode: 0 Status: OK