Package: PCAtools Version: 2.4.0 Command: chmod a+r PCAtools -R && C:\Users\biocbuild\bbs-3.13-bioc\R\bin\R.exe CMD build --keep-empty-dirs --no-resave-data PCAtools StartedAt: 2021-10-14 16:41:34 -0400 (Thu, 14 Oct 2021) EndedAt: 2021-10-14 16:44:43 -0400 (Thu, 14 Oct 2021) EllapsedTime: 188.6 seconds RetCode: 1 Status: ERROR PackageFile: None PackageFileSize: NA