Package: PADOG Version: 1.34.0 Command: rm -rf PADOG.buildbin-libdir && mkdir PADOG.buildbin-libdir && /Users/biocbuild/BBS/utils/build-universal.sh PADOG_1.34.0.tar.gz /Library/Frameworks/R.framework/Versions/Current/Resources/bin/R PADOG.buildbin-libdir StartedAt: 2021-10-15 03:23:51 -0400 (Fri, 15 Oct 2021) EndedAt: 2021-10-15 03:24:44 -0400 (Fri, 15 Oct 2021) EllapsedTime: 53.8 seconds RetCode: 0 Status: OK PackageFile: PADOG_1.34.0.tgz PackageFileSize: 293.3 KiB