Package: OrganismDbi Version: 1.34.0 Command: /home/biocbuild/bbs-3.13-bioc/R/bin/R CMD build --keep-empty-dirs --no-resave-data OrganismDbi StartedAt: 2021-10-14 07:54:20 -0400 (Thu, 14 Oct 2021) EndedAt: 2021-10-14 07:55:37 -0400 (Thu, 14 Oct 2021) EllapsedTime: 77.6 seconds RetCode: 0 Status: OK PackageFile: OrganismDbi_1.34.0.tar.gz PackageFileSize: 190.1 KiB