Package: Organism.dplyr Version: 1.20.0 Command: C:\cygwin\bin\curl.exe -O http://155.52.207.165/BBS/3.13/bioc/src/contrib/Organism.dplyr_1.20.0.tar.gz && rm -rf Organism.dplyr.buildbin-libdir && mkdir Organism.dplyr.buildbin-libdir && C:\Users\biocbuild\bbs-3.13-bioc\R\bin\R.exe CMD INSTALL --merge-multiarch --build --library=Organism.dplyr.buildbin-libdir Organism.dplyr_1.20.0.tar.gz && C:\Users\biocbuild\bbs-3.13-bioc\R\bin\R.exe CMD INSTALL Organism.dplyr_1.20.0.zip && rm Organism.dplyr_1.20.0.tar.gz Organism.dplyr_1.20.0.zip StartedAt: 2021-10-14 10:15:49 -0400 (Thu, 14 Oct 2021) EndedAt: 2021-10-14 10:16:46 -0400 (Thu, 14 Oct 2021) EllapsedTime: 56.9 seconds RetCode: 0 Status: OK