Package: Organism.dplyr Version: 1.20.0 Command: C:\Users\biocbuild\bbs-3.13-bioc\R\bin\R.exe CMD check --force-multiarch --install=check:Organism.dplyr.install-out.txt --library=C:\Users\biocbuild\bbs-3.13-bioc\R\library --no-vignettes --timings Organism.dplyr_1.20.0.tar.gz StartedAt: 2021-10-15 03:01:22 -0400 (Fri, 15 Oct 2021) EndedAt: 2021-10-15 03:14:14 -0400 (Fri, 15 Oct 2021) EllapsedTime: 772.1 seconds RetCode: 0 Status: OK CheckDir: Organism.dplyr.Rcheck Warnings: 0