Package: Organism.dplyr Version: 1.20.0 Command: chmod a+r Organism.dplyr -R && C:\Users\biocbuild\bbs-3.13-bioc\R\bin\R.exe CMD build --keep-empty-dirs --no-resave-data Organism.dplyr StartedAt: 2021-10-14 16:20:36 -0400 (Thu, 14 Oct 2021) EndedAt: 2021-10-14 16:25:21 -0400 (Thu, 14 Oct 2021) EllapsedTime: 284.9 seconds RetCode: 0 Status: OK PackageFile: Organism.dplyr_1.20.0.tar.gz PackageFileSize: 456.4 KiB