Package: Organism.dplyr Version: 1.20.0 Command: /home/biocbuild/bbs-3.13-bioc/R/bin/R CMD INSTALL Organism.dplyr StartedAt: 2021-10-14 06:23:20 -0400 (Thu, 14 Oct 2021) EndedAt: 2021-10-14 06:23:55 -0400 (Thu, 14 Oct 2021) EllapsedTime: 34.9 seconds RetCode: 0 Status: OK