Package: Organism.dplyr Version: 1.20.0 Command: /home/biocbuild/bbs-3.13-bioc/R/bin/R CMD check --install=check:Organism.dplyr.install-out.txt --library=/home/biocbuild/bbs-3.13-bioc/R/library --no-vignettes --timings Organism.dplyr_1.20.0.tar.gz StartedAt: 2021-10-14 10:54:03 -0400 (Thu, 14 Oct 2021) EndedAt: 2021-10-14 11:01:55 -0400 (Thu, 14 Oct 2021) EllapsedTime: 471.6 seconds RetCode: 0 Status: OK CheckDir: Organism.dplyr.Rcheck Warnings: 0