Package: Organism.dplyr Version: 1.20.0 Command: /home/biocbuild/bbs-3.13-bioc/R/bin/R CMD build --keep-empty-dirs --no-resave-data Organism.dplyr StartedAt: 2021-10-14 07:54:19 -0400 (Thu, 14 Oct 2021) EndedAt: 2021-10-14 07:55:34 -0400 (Thu, 14 Oct 2021) EllapsedTime: 75.0 seconds RetCode: 0 Status: OK PackageFile: Organism.dplyr_1.20.0.tar.gz PackageFileSize: 468.3 KiB