Package: Organism.dplyr Version: 1.20.0 Command: /Library/Frameworks/R.framework/Versions/Current/Resources/bin/R CMD INSTALL Organism.dplyr StartedAt: 2021-10-14 09:52:51 -0400 (Thu, 14 Oct 2021) EndedAt: 2021-10-14 09:53:32 -0400 (Thu, 14 Oct 2021) EllapsedTime: 40.9 seconds RetCode: 0 Status: OK