Package: Organism.dplyr Version: 1.20.0 Command: /Library/Frameworks/R.framework/Versions/Current/Resources/bin/R CMD check --install=check:Organism.dplyr.install-out.txt --library=/Library/Frameworks/R.framework/Versions/Current/Resources/library --no-vignettes --timings Organism.dplyr_1.20.0.tar.gz StartedAt: 2021-10-14 22:00:22 -0400 (Thu, 14 Oct 2021) EndedAt: 2021-10-14 22:10:29 -0400 (Thu, 14 Oct 2021) EllapsedTime: 607.1 seconds RetCode: 0 Status: OK CheckDir: Organism.dplyr.Rcheck Warnings: 0