Package: Organism.dplyr Version: 1.20.0 Command: /Library/Frameworks/R.framework/Versions/Current/Resources/bin/R CMD build --keep-empty-dirs --no-resave-data Organism.dplyr StartedAt: 2021-10-14 13:41:22 -0400 (Thu, 14 Oct 2021) EndedAt: 2021-10-14 13:43:06 -0400 (Thu, 14 Oct 2021) EllapsedTime: 103.8 seconds RetCode: 0 Status: OK PackageFile: Organism.dplyr_1.20.0.tar.gz PackageFileSize: 467.4 KiB