Package: Organism.dplyr Version: 1.20.0 Command: rm -rf Organism.dplyr.buildbin-libdir && mkdir Organism.dplyr.buildbin-libdir && /Users/biocbuild/BBS/utils/build-universal.sh Organism.dplyr_1.20.0.tar.gz /Library/Frameworks/R.framework/Versions/Current/Resources/bin/R Organism.dplyr.buildbin-libdir StartedAt: 2021-10-15 03:22:57 -0400 (Fri, 15 Oct 2021) EndedAt: 2021-10-15 03:23:51 -0400 (Fri, 15 Oct 2021) EllapsedTime: 53.8 seconds RetCode: 0 Status: OK PackageFile: Organism.dplyr_1.20.0.tgz PackageFileSize: 823.7 KiB