Package: OncoScore Version: 1.20.0 Command: chmod a+r OncoScore -R && C:\Users\biocbuild\bbs-3.13-bioc\R\bin\R.exe CMD build --keep-empty-dirs --no-resave-data OncoScore StartedAt: 2021-10-14 16:15:09 -0400 (Thu, 14 Oct 2021) EndedAt: 2021-10-14 16:15:55 -0400 (Thu, 14 Oct 2021) EllapsedTime: 45.8 seconds RetCode: 0 Status: OK PackageFile: OncoScore_1.20.0.tar.gz PackageFileSize: 202.6 KiB