Package: OmnipathR Version: 3.0.4 Command: /Library/Frameworks/R.framework/Versions/Current/Resources/bin/R CMD build --keep-empty-dirs --no-resave-data OmnipathR StartedAt: 2021-10-14 13:38:28 -0400 (Thu, 14 Oct 2021) EndedAt: 2021-10-14 13:39:59 -0400 (Thu, 14 Oct 2021) EllapsedTime: 91.1 seconds RetCode: 0 Status: OK PackageFile: OmnipathR_3.0.4.tar.gz PackageFileSize: 1.848 MiB