Package: OmicsLonDA Version: 1.8.0 Command: rm -rf OmicsLonDA.buildbin-libdir && mkdir OmicsLonDA.buildbin-libdir && C:\Users\biocbuild\bbs-3.13-bioc\R\bin\R.exe CMD INSTALL --merge-multiarch --build --library=OmicsLonDA.buildbin-libdir OmicsLonDA_1.8.0.tar.gz StartedAt: 2021-10-15 10:46:27 -0400 (Fri, 15 Oct 2021) EndedAt: 2021-10-15 10:47:55 -0400 (Fri, 15 Oct 2021) EllapsedTime: 87.7 seconds RetCode: 0 Status: OK PackageFile: OmicsLonDA_1.8.0.zip PackageFileSize: 4.985 MiB