Package: OmaDB Version: 2.8.0 Command: C:\cygwin\bin\curl.exe -O http://155.52.207.165/BBS/3.13/bioc/src/contrib/OmaDB_2.8.0.tar.gz && rm -rf OmaDB.buildbin-libdir && mkdir OmaDB.buildbin-libdir && C:\Users\biocbuild\bbs-3.13-bioc\R\bin\R.exe CMD INSTALL --merge-multiarch --build --library=OmaDB.buildbin-libdir OmaDB_2.8.0.tar.gz && C:\Users\biocbuild\bbs-3.13-bioc\R\bin\R.exe CMD INSTALL OmaDB_2.8.0.zip && rm OmaDB_2.8.0.tar.gz OmaDB_2.8.0.zip StartedAt: 2021-10-14 08:10:28 -0400 (Thu, 14 Oct 2021) EndedAt: 2021-10-14 08:11:28 -0400 (Thu, 14 Oct 2021) EllapsedTime: 60.7 seconds RetCode: 0 Status: OK