Package: OVESEG Version: 1.8.0 Command: chmod a+r OVESEG -R && C:\Users\biocbuild\bbs-3.13-bioc\R\bin\R.exe CMD build --keep-empty-dirs --no-resave-data OVESEG StartedAt: 2021-10-14 16:26:54 -0400 (Thu, 14 Oct 2021) EndedAt: 2021-10-14 16:37:00 -0400 (Thu, 14 Oct 2021) EllapsedTime: 606.5 seconds RetCode: 0 Status: OK PackageFile: OVESEG_1.8.0.tar.gz PackageFileSize: 762.7 KiB