Package: OVESEG Version: 1.8.0 Command: /home/biocbuild/bbs-3.13-bioc/R/bin/R CMD check --install=check:OVESEG.install-out.txt --library=/home/biocbuild/bbs-3.13-bioc/R/library --no-vignettes --timings OVESEG_1.8.0.tar.gz StartedAt: 2021-10-14 10:54:35 -0400 (Thu, 14 Oct 2021) EndedAt: 2021-10-14 10:55:34 -0400 (Thu, 14 Oct 2021) EllapsedTime: 59.0 seconds RetCode: 0 Status: OK CheckDir: OVESEG.Rcheck Warnings: 0