Package: OVESEG Version: 1.8.0 Command: /home/biocbuild/bbs-3.13-bioc/R/bin/R CMD build --keep-empty-dirs --no-resave-data OVESEG StartedAt: 2021-10-14 07:54:31 -0400 (Thu, 14 Oct 2021) EndedAt: 2021-10-14 08:01:47 -0400 (Thu, 14 Oct 2021) EllapsedTime: 435.8 seconds RetCode: 0 Status: OK PackageFile: OVESEG_1.8.0.tar.gz PackageFileSize: 790.1 KiB