Package: OVESEG Version: 1.8.0 Command: /Library/Frameworks/R.framework/Versions/Current/Resources/bin/R CMD build --keep-empty-dirs --no-resave-data OVESEG StartedAt: 2021-10-14 13:43:05 -0400 (Thu, 14 Oct 2021) EndedAt: 2021-10-14 13:55:22 -0400 (Thu, 14 Oct 2021) EllapsedTime: 737.2 seconds RetCode: 0 Status: OK PackageFile: OVESEG_1.8.0.tar.gz PackageFileSize: 788.4 KiB