Package: OPWeight Version: 1.14.0 Command: /home/biocbuild/bbs-3.13-bioc/R/bin/R CMD build --keep-empty-dirs --no-resave-data OPWeight StartedAt: 2021-10-14 07:53:59 -0400 (Thu, 14 Oct 2021) EndedAt: 2021-10-14 07:56:40 -0400 (Thu, 14 Oct 2021) EllapsedTime: 161.3 seconds RetCode: 0 Status: OK PackageFile: OPWeight_1.14.0.tar.gz PackageFileSize: 456.8 KiB