Package: OPWeight Version: 1.14.0 Command: rm -rf OPWeight.buildbin-libdir && mkdir OPWeight.buildbin-libdir && /Users/biocbuild/BBS/utils/build-universal.sh OPWeight_1.14.0.tar.gz /Library/Frameworks/R.framework/Versions/Current/Resources/bin/R OPWeight.buildbin-libdir StartedAt: 2021-10-15 03:22:34 -0400 (Fri, 15 Oct 2021) EndedAt: 2021-10-15 03:23:24 -0400 (Fri, 15 Oct 2021) EllapsedTime: 50.1 seconds RetCode: 0 Status: OK PackageFile: OPWeight_1.14.0.tgz PackageFileSize: 483.8 KiB