Package: OMICsPCA Version: 1.10.0 Command: /home/biocbuild/bbs-3.13-bioc/R/bin/R CMD build --keep-empty-dirs --no-resave-data OMICsPCA StartedAt: 2021-10-14 07:53:00 -0400 (Thu, 14 Oct 2021) EndedAt: 2021-10-14 07:54:54 -0400 (Thu, 14 Oct 2021) EllapsedTime: 114.0 seconds RetCode: 0 Status: OK PackageFile: OMICsPCA_1.10.0.tar.gz PackageFileSize: 4.461 MiB