Package: OLINgui Version: 1.66.0 Command: C:\cygwin\bin\curl.exe -O http://155.52.207.165/BBS/3.13/bioc/src/contrib/OLINgui_1.66.0.tar.gz && rm -rf OLINgui.buildbin-libdir && mkdir OLINgui.buildbin-libdir && C:\Users\biocbuild\bbs-3.13-bioc\R\bin\R.exe CMD INSTALL --merge-multiarch --build --library=OLINgui.buildbin-libdir OLINgui_1.66.0.tar.gz && C:\Users\biocbuild\bbs-3.13-bioc\R\bin\R.exe CMD INSTALL OLINgui_1.66.0.zip && rm OLINgui_1.66.0.tar.gz OLINgui_1.66.0.zip StartedAt: 2021-10-14 07:19:02 -0400 (Thu, 14 Oct 2021) EndedAt: 2021-10-14 07:19:55 -0400 (Thu, 14 Oct 2021) EllapsedTime: 52.8 seconds RetCode: 0 Status: OK