Package: OLINgui Version: 1.66.0 Command: /Library/Frameworks/R.framework/Versions/Current/Resources/bin/R CMD build --keep-empty-dirs --no-resave-data OLINgui StartedAt: 2021-10-14 13:37:34 -0400 (Thu, 14 Oct 2021) EndedAt: 2021-10-14 13:37:55 -0400 (Thu, 14 Oct 2021) EllapsedTime: 21.7 seconds RetCode: 0 Status: OK PackageFile: OLINgui_1.66.0.tar.gz PackageFileSize: 274.4 KiB