Package: OLIN Version: 1.70.0 Command: C:\cygwin\bin\curl.exe -O http://155.52.207.165/BBS/3.13/bioc/src/contrib/OLIN_1.70.0.tar.gz && rm -rf OLIN.buildbin-libdir && mkdir OLIN.buildbin-libdir && C:\Users\biocbuild\bbs-3.13-bioc\R\bin\R.exe CMD INSTALL --merge-multiarch --build --library=OLIN.buildbin-libdir OLIN_1.70.0.tar.gz && C:\Users\biocbuild\bbs-3.13-bioc\R\bin\R.exe CMD INSTALL OLIN_1.70.0.zip && rm OLIN_1.70.0.tar.gz OLIN_1.70.0.zip StartedAt: 2021-10-14 07:06:44 -0400 (Thu, 14 Oct 2021) EndedAt: 2021-10-14 07:10:09 -0400 (Thu, 14 Oct 2021) EllapsedTime: 205.4 seconds RetCode: 0 Status: OK