Package: OLIN Version: 1.70.0 Command: chmod a+r OLIN -R && C:\Users\biocbuild\bbs-3.13-bioc\R\bin\R.exe CMD build --keep-empty-dirs --no-resave-data OLIN StartedAt: 2021-10-14 16:13:04 -0400 (Thu, 14 Oct 2021) EndedAt: 2021-10-14 16:14:18 -0400 (Thu, 14 Oct 2021) EllapsedTime: 74.0 seconds RetCode: 0 Status: OK PackageFile: OLIN_1.70.0.tar.gz PackageFileSize: 2.471 MiB