Package: OLIN Version: 1.70.0 Command: rm -rf OLIN.buildbin-libdir && mkdir OLIN.buildbin-libdir && C:\Users\biocbuild\bbs-3.13-bioc\R\bin\R.exe CMD INSTALL --merge-multiarch --build --library=OLIN.buildbin-libdir OLIN_1.70.0.tar.gz StartedAt: 2021-10-15 10:45:36 -0400 (Fri, 15 Oct 2021) EndedAt: 2021-10-15 10:46:57 -0400 (Fri, 15 Oct 2021) EllapsedTime: 80.9 seconds RetCode: 0 Status: OK PackageFile: OLIN_1.70.0.zip PackageFileSize: 2.707 MiB