Package: NormqPCR Version: 1.38.0 Command: rm -rf NormqPCR.buildbin-libdir && mkdir NormqPCR.buildbin-libdir && /Users/biocbuild/BBS/utils/build-universal.sh NormqPCR_1.38.0.tar.gz /Library/Frameworks/R.framework/Versions/Current/Resources/bin/R NormqPCR.buildbin-libdir StartedAt: 2021-10-15 03:18:58 -0400 (Fri, 15 Oct 2021) EndedAt: 2021-10-15 03:20:03 -0400 (Fri, 15 Oct 2021) EllapsedTime: 64.7 seconds RetCode: 0 Status: OK PackageFile: NormqPCR_1.38.0.tgz PackageFileSize: 404.2 KiB