Package: NormalyzerDE Version: 1.10.0 Command: /home/biocbuild/bbs-3.13-bioc/R/bin/R CMD INSTALL NormalyzerDE StartedAt: 2021-10-14 06:19:48 -0400 (Thu, 14 Oct 2021) EndedAt: 2021-10-14 06:20:26 -0400 (Thu, 14 Oct 2021) EllapsedTime: 38.1 seconds RetCode: 0 Status: OK