Package: NormalyzerDE Version: 1.10.0 Command: /home/biocbuild/bbs-3.13-bioc/R/bin/R CMD build --keep-empty-dirs --no-resave-data NormalyzerDE StartedAt: 2021-10-14 07:51:39 -0400 (Thu, 14 Oct 2021) EndedAt: 2021-10-14 07:53:13 -0400 (Thu, 14 Oct 2021) EllapsedTime: 93.8 seconds RetCode: 0 Status: OK PackageFile: NormalyzerDE_1.10.0.tar.gz PackageFileSize: 1.076 MiB