Package: Nebulosa Version: 1.2.0 Command: C:\cygwin\bin\curl.exe -O http://155.52.207.165/BBS/3.13/bioc/src/contrib/Nebulosa_1.2.0.tar.gz && rm -rf Nebulosa.buildbin-libdir && mkdir Nebulosa.buildbin-libdir && C:\Users\biocbuild\bbs-3.13-bioc\R\bin\R.exe CMD INSTALL --merge-multiarch --build --library=Nebulosa.buildbin-libdir Nebulosa_1.2.0.tar.gz && C:\Users\biocbuild\bbs-3.13-bioc\R\bin\R.exe CMD INSTALL Nebulosa_1.2.0.zip && rm Nebulosa_1.2.0.tar.gz Nebulosa_1.2.0.zip StartedAt: 2021-10-14 11:14:12 -0400 (Thu, 14 Oct 2021) EndedAt: 2021-10-14 11:15:02 -0400 (Thu, 14 Oct 2021) EllapsedTime: 50.5 seconds RetCode: 0 Status: OK