Package: NanoStringQCPro Version: 1.24.0 Command: chmod a+r NanoStringQCPro -R && C:\Users\biocbuild\bbs-3.13-bioc\R\bin\R.exe CMD build --keep-empty-dirs --no-resave-data NanoStringQCPro StartedAt: 2021-10-14 16:05:26 -0400 (Thu, 14 Oct 2021) EndedAt: 2021-10-14 16:06:01 -0400 (Thu, 14 Oct 2021) EllapsedTime: 34.9 seconds RetCode: 0 Status: OK PackageFile: NanoStringQCPro_1.24.0.tar.gz PackageFileSize: 247 KiB