Package: NTW Version: 1.42.0 Command: /home/biocbuild/bbs-3.13-bioc/R/bin/R CMD check --install=check:NTW.install-out.txt --library=/home/biocbuild/bbs-3.13-bioc/R/library --no-vignettes --timings NTW_1.42.0.tar.gz StartedAt: 2021-10-14 10:50:18 -0400 (Thu, 14 Oct 2021) EndedAt: 2021-10-14 10:50:42 -0400 (Thu, 14 Oct 2021) EllapsedTime: 23.9 seconds RetCode: 0 Status: WARNINGS CheckDir: NTW.Rcheck Warnings: 1