Package: NBAMSeq Version: 1.8.0 Command: /home/biocbuild/bbs-3.13-bioc/R/bin/R CMD INSTALL NBAMSeq StartedAt: 2021-10-14 06:22:04 -0400 (Thu, 14 Oct 2021) EndedAt: 2021-10-14 06:22:30 -0400 (Thu, 14 Oct 2021) EllapsedTime: 25.4 seconds RetCode: 0 Status: OK