Package: NBAMSeq Version: 1.8.0 Command: /home/biocbuild/bbs-3.13-bioc/R/bin/R CMD build --keep-empty-dirs --no-resave-data NBAMSeq StartedAt: 2021-10-14 07:50:17 -0400 (Thu, 14 Oct 2021) EndedAt: 2021-10-14 07:51:05 -0400 (Thu, 14 Oct 2021) EllapsedTime: 48.0 seconds RetCode: 0 Status: OK PackageFile: NBAMSeq_1.8.0.tar.gz PackageFileSize: 278.2 KiB