Package: MutationalPatterns Version: 3.2.0 Command: C:\Users\biocbuild\bbs-3.13-bioc\R\bin\R.exe CMD check --force-multiarch --install=check:MutationalPatterns.install-out.txt --library=C:\Users\biocbuild\bbs-3.13-bioc\R\library --no-vignettes --timings MutationalPatterns_3.2.0.tar.gz StartedAt: 2021-10-15 02:31:44 -0400 (Fri, 15 Oct 2021) EndedAt: 2021-10-15 02:52:23 -0400 (Fri, 15 Oct 2021) EllapsedTime: 1238.6 seconds RetCode: 0 Status: OK CheckDir: MutationalPatterns.Rcheck Warnings: 0