Package: MutationalPatterns Version: 3.2.0 Command: /Library/Frameworks/R.framework/Versions/Current/Resources/bin/R CMD INSTALL MutationalPatterns StartedAt: 2021-10-14 10:06:39 -0400 (Thu, 14 Oct 2021) EndedAt: 2021-10-14 10:07:00 -0400 (Thu, 14 Oct 2021) EllapsedTime: 20.5 seconds RetCode: 0 Status: OK