Package: MultiMed Version: 2.14.0 Command: /home/biocbuild/bbs-3.13-bioc/R/bin/R CMD build --keep-empty-dirs --no-resave-data MultiMed StartedAt: 2021-10-14 07:49:16 -0400 (Thu, 14 Oct 2021) EndedAt: 2021-10-14 07:49:22 -0400 (Thu, 14 Oct 2021) EllapsedTime: 5.5 seconds RetCode: 0 Status: OK PackageFile: MultiMed_2.14.0.tar.gz PackageFileSize: 464.3 KiB