Package: MultiBaC Version: 1.2.0 Command: /home/biocbuild/bbs-3.13-bioc/R/bin/R CMD check --install=check:MultiBaC.install-out.txt --library=/home/biocbuild/bbs-3.13-bioc/R/library --no-vignettes --timings MultiBaC_1.2.0.tar.gz StartedAt: 2021-10-14 10:44:20 -0400 (Thu, 14 Oct 2021) EndedAt: 2021-10-14 10:46:24 -0400 (Thu, 14 Oct 2021) EllapsedTime: 123.2 seconds RetCode: 0 Status: OK CheckDir: MultiBaC.Rcheck Warnings: 0