Package: MultiAssayExperiment Version: 1.18.0 Command: C:\Users\biocbuild\bbs-3.13-bioc\R\bin\R.exe CMD check --force-multiarch --install=check:MultiAssayExperiment.install-out.txt --library=C:\Users\biocbuild\bbs-3.13-bioc\R\library --no-vignettes --timings MultiAssayExperiment_1.18.0.tar.gz StartedAt: 2021-10-15 02:24:50 -0400 (Fri, 15 Oct 2021) EndedAt: 2021-10-15 02:30:05 -0400 (Fri, 15 Oct 2021) EllapsedTime: 315.3 seconds RetCode: 0 Status: WARNINGS CheckDir: MultiAssayExperiment.Rcheck Warnings: 1