Package: MultiAssayExperiment Version: 1.18.0 Command: /Library/Frameworks/R.framework/Versions/Current/Resources/bin/R CMD build --keep-empty-dirs --no-resave-data MultiAssayExperiment StartedAt: 2021-10-14 13:26:36 -0400 (Thu, 14 Oct 2021) EndedAt: 2021-10-14 13:28:12 -0400 (Thu, 14 Oct 2021) EllapsedTime: 95.8 seconds RetCode: 0 Status: OK PackageFile: MultiAssayExperiment_1.18.0.tar.gz PackageFileSize: 1.115 MiB